BEGIN:VCALENDAR
VERSION:2.0
PRODID:-//Tukios.com/
BEGIN:VEVENT
UID:69eb0cab-9740-4b16-8668-77d28b2042d2@www.gsfuneral.com
DTSTAMP:20260422T181600Z
DTSTART:20260424T220000Z
DTEND:20260425T000000Z
SUMMARY:Luncheon
DESCRIPTION:
URL:https://www.gsfuneral.com/obituaries/brian-barber
LOCATION: 3809 N 90th St  Omaha NE 68134
GEO:41.2936962;-96.0517013
END:VEVENT
END:VCALENDAR