BEGIN:VCALENDAR
VERSION:2.0
PRODID:-//Tukios.com/
BEGIN:VEVENT
UID:1e34baaf-594a-4b9b-889a-ad4f9b474b78@www.gsfuneral.com
DTSTAMP:20260422T181107Z
DTSTART:20260424T210000Z
DTEND:20260424T220000Z
SUMMARY:Memorial Service
DESCRIPTION:
URL:https://www.gsfuneral.com/obituaries/brian-barber
LOCATION: 3809 N 90th St  Omaha NE 68134
GEO:41.2936962;-96.0517013
END:VEVENT
END:VCALENDAR