BEGIN:VCALENDAR
VERSION:2.0
PRODID:-//Tukios.com/
BEGIN:VEVENT
UID:097a5377-d53e-4565-857d-89686e4fdcf5@www.gsfuneral.com
DTSTAMP:20260422T181315Z
DTSTART:20260424T200000Z
DTEND:20260424T210000Z
SUMMARY:Visitation
DESCRIPTION:
URL:https://www.gsfuneral.com/obituaries/brian-barber
LOCATION: 3809 N 90th St  Omaha NE 68134
GEO:41.2936962;-96.0517013
END:VEVENT
END:VCALENDAR