BEGIN:VCALENDAR
VERSION:2.0
PRODID:-//Tukios.com/
BEGIN:VEVENT
UID:29912460-f497-457f-9b53-bc1b1ded43a5@www.gsfuneral.com
DTSTAMP:20260424T234454Z
DTSTART:20260427T190000Z
DTEND:20260427T220000Z
SUMMARY:Visitation
DESCRIPTION:
URL:https://www.gsfuneral.com/obituaries/janice-gathye
LOCATION:L Street Chapel - Good Shepherd 4712 So 82nd Street  Omaha  
	68127
GEO:41.2118947;-96.0411643
END:VEVENT
END:VCALENDAR