BEGIN:VCALENDAR
VERSION:2.0
PRODID:-//Tukios.com/
BEGIN:VEVENT
UID:ee8f7536-fff2-4637-b523-6de1f3066de7@www.gsfuneral.com
DTSTAMP:20260421T213843Z
DTSTART:20260427
SUMMARY:Graveside Service
DESCRIPTION:
URL:https://www.gsfuneral.com/obituaries/lucille-boults
LOCATION:Mt. Hope Cemetery 7602 Military Avenue  Omaha NE 68134
GEO:41.3041304;-96.0315269
END:VEVENT
END:VCALENDAR