BEGIN:VCALENDAR
VERSION:2.0
PRODID:-//Tukios.com/
BEGIN:VEVENT
UID:730c9e19-90c0-4262-9b60-81c7def10b17@www.gsfuneral.com
DTSTAMP:20260421T213054Z
DTSTART:20260427T160000Z
DTEND:20260427T170000Z
SUMMARY:Funeral Service
DESCRIPTION:
URL:https://www.gsfuneral.com/obituaries/lucille-boults
LOCATION: 3809 N 90th St  Omaha NE 68134
GEO:41.2936962;-96.0517013
END:VEVENT
END:VCALENDAR