BEGIN:VCALENDAR
VERSION:2.0
PRODID:-//Tukios.com/
BEGIN:VEVENT
UID:b12621fe-130b-4719-97b3-1fb97ec136c1@www.gsfuneral.com
DTSTAMP:20260421T213551Z
DTSTART:20260427T150000Z
DTEND:20260427T160000Z
SUMMARY:Visitation
DESCRIPTION:
URL:https://www.gsfuneral.com/obituaries/lucille-boults
LOCATION: 3809 N 90th St  Omaha NE 68134
GEO:41.2936962;-96.0517013
END:VEVENT
END:VCALENDAR